BEGIN:VCALENDAR
VERSION:2.0
PRODID:-//jEvents 2.0 for Joomla//EN
CALSCALE:GREGORIAN
METHOD:PUBLISH
BEGIN:VEVENT
UID:8656312d395f4b2ca23f3fd7ed4e547c
CATEGORIES:Fußball Aktive extern
CREATED:20200723T115830
SUMMARY:Fussball: TVA I - NK Croatia Bietigheim 
LOCATION:Jahnsportplatz
DESCRIPTION:
DTSTAMP:20260419T203903
DTSTART:20200906T150000
DTEND:20200906T170000
SEQUENCE:0
TRANSP:OPAQUE
END:VEVENT
END:VCALENDAR