BEGIN:VCALENDAR
VERSION:2.0
PRODID:-//jEvents 2.0 for Joomla//EN
CALSCALE:GREGORIAN
METHOD:PUBLISH
BEGIN:VEVENT
UID:731e43fc5f300b2770132104de419cbf
CATEGORIES:Fußball Aktive extern
CREATED:20200721T123618
SUMMARY:Pokalhalbfinale: TSV Affalterbach-TVA I
LOCATION:Sportplatz Affalterbach
DESCRIPTION:
DTSTAMP:20260420T113702
DTSTART:20200726T150000
DTEND:20200726T170000
SEQUENCE:0
TRANSP:OPAQUE
END:VEVENT
END:VCALENDAR