BEGIN:VCALENDAR
VERSION:2.0
PRODID:-//jEvents 2.0 for Joomla//EN
CALSCALE:GREGORIAN
METHOD:PUBLISH
BEGIN:VEVENT
UID:81f2ad83ddba14f0a64941cc42270746
CATEGORIES:Tischtennis extern
CREATED:20200105T222543
SUMMARY:Tischtennis U18: TVA 2 - TSV Schwieberdingen 2
LOCATION:Pattonville
DESCRIPTION:
DTSTAMP:20260425T123721
DTSTART:20200208T140000
DTEND:20200208T160000
SEQUENCE:0
TRANSP:OPAQUE
END:VEVENT
END:VCALENDAR