BEGIN:VCALENDAR
VERSION:2.0
PRODID:-//jEvents 2.0 for Joomla//EN
CALSCALE:GREGORIAN
METHOD:PUBLISH
BEGIN:VEVENT
UID:a495646185782d0b9a1a7439e524ea08
CATEGORIES:Tischtennis extern
CREATED:20200105T222444
SUMMARY:Tischtennis U18: TVA 3 - TVA 2
LOCATION:Pattonville
DESCRIPTION:
DTSTAMP:20260421T082904
DTSTART:20200131T180000
DTEND:20200131T200000
SEQUENCE:0
TRANSP:OPAQUE
END:VEVENT
END:VCALENDAR