BEGIN:VCALENDAR
VERSION:2.0
PRODID:-//jEvents 2.0 for Joomla//EN
CALSCALE:GREGORIAN
METHOD:PUBLISH
BEGIN:VEVENT
UID:4eaf14dc588cc9aa30c85ca84e8b4581
CATEGORIES:Tischtennis extern
CREATED:20200105T221528
SUMMARY:Tischtennis U18: TVA 1 - TV Großbottwar
LOCATION:Pattonville
DESCRIPTION:
DTSTAMP:20260420T223222
DTSTART:20200307T140000
DTEND:20200307T160000
SEQUENCE:0
TRANSP:OPAQUE
END:VEVENT
END:VCALENDAR