BEGIN:VCALENDAR
VERSION:2.0
PRODID:-//jEvents 2.0 for Joomla//EN
CALSCALE:GREGORIAN
METHOD:PUBLISH
BEGIN:VEVENT
UID:26c3b4e17ffb75c4a5610743c5381ed6
CATEGORIES:Handball extern
CREATED:20190912T121637
SUMMARY:Handball Frauen: Bottwar SG 2 - TVA
LOCATION:Wunnensteinhalle\, Großbottwar
DESCRIPTION:
DTSTAMP:20260425T170705
DTSTART:20191019T160000
DTEND:20191019T171500
SEQUENCE:0
TRANSP:OPAQUE
END:VEVENT
END:VCALENDAR