BEGIN:VCALENDAR
VERSION:2.0
PRODID:-//jEvents 2.0 for Joomla//EN
CALSCALE:GREGORIAN
METHOD:PUBLISH
BEGIN:VEVENT
UID:2d6d78fe5580bd05668b5c0c76463a76
CATEGORIES:Handball extern
CREATED:20190912T121205
SUMMARY:Handball: TVA 1 - HSG Neckar FBH 2
LOCATION:Sporthalle Regental
DESCRIPTION:
DTSTAMP:20260419T232613
DTSTART:20191013T164500
DTEND:20191013T180000
SEQUENCE:0
TRANSP:OPAQUE
END:VEVENT
END:VCALENDAR