BEGIN:VCALENDAR
VERSION:2.0
PRODID:-//jEvents 2.0 for Joomla//EN
CALSCALE:GREGORIAN
METHOD:PUBLISH
BEGIN:VEVENT
UID:b20c3b5b5bf766e7ba697bc85b356fdd
CATEGORIES:Handball extern
CREATED:20190912T120214
SUMMARY:Handball: TVA 2 - TSV Korntal 2
DESCRIPTION:
DTSTAMP:20260421T161227
DTSTART:20190921T200000
DTEND:20190921T211500
SEQUENCE:0
TRANSP:OPAQUE
END:VEVENT
END:VCALENDAR