BEGIN:VCALENDAR
VERSION:2.0
PRODID:-//jEvents 2.0 for Joomla//EN
CALSCALE:GREGORIAN
METHOD:PUBLISH
BEGIN:VEVENT
UID:9d7212258632fed039b9d5825a27daf8
CATEGORIES:Tischtennis
CREATED:20190816T232348
SUMMARY:Tischtennis U18: RKV-06 Neckarweihingen - TVA 3
DESCRIPTION:
DTSTAMP:20260420T030355
DTSTART:20191019T130000
DTEND:20191019T150000
SEQUENCE:0
TRANSP:OPAQUE
END:VEVENT
END:VCALENDAR