BEGIN:VCALENDAR
VERSION:2.0
PRODID:-//jEvents 2.0 for Joomla//EN
CALSCALE:GREGORIAN
METHOD:PUBLISH
BEGIN:VEVENT
UID:50a8075420c28939b316565a5d59605f
CATEGORIES:Tischtennis extern
CREATED:20190816T231607
SUMMARY:Tischtennis U18: TVA 2 - TSV Bietigheim 2
LOCATION:Pattonville
DESCRIPTION:
DTSTAMP:20260425T224557
DTSTART:20190914T140000
DTEND:20190914T160000
SEQUENCE:0
TRANSP:OPAQUE
END:VEVENT
END:VCALENDAR