BEGIN:VCALENDAR
VERSION:2.0
PRODID:-//jEvents 2.0 for Joomla//EN
CALSCALE:GREGORIAN
METHOD:PUBLISH
BEGIN:VEVENT
UID:ab4933e4960b3be47fc45770d9c10aad
CATEGORIES:Tischtennis extern
CREATED:20190816T225246
SUMMARY:Tischtennis U18: SKV Hochberg - TVA 1
DESCRIPTION:
DTSTAMP:20260420T232536
DTSTART:20191005T140000
DTEND:20191005T160000
SEQUENCE:0
TRANSP:OPAQUE
END:VEVENT
END:VCALENDAR