BEGIN:VCALENDAR
VERSION:2.0
PRODID:-//jEvents 2.0 for Joomla//EN
CALSCALE:GREGORIAN
METHOD:PUBLISH
BEGIN:VEVENT
UID:549c328c04ee1477db5f1b61244e22d7
CATEGORIES:Tischtennis
CREATED:20190816T223901
SUMMARY:Tischtennis: TTV Erdmannhausen 2 - TVA 3
DESCRIPTION:
DTSTAMP:20260421T014241
DTSTART:20191130T170000
DTEND:20191130T200000
SEQUENCE:0
TRANSP:OPAQUE
END:VEVENT
END:VCALENDAR