BEGIN:VCALENDAR
VERSION:2.0
PRODID:-//jEvents 2.0 for Joomla//EN
CALSCALE:GREGORIAN
METHOD:PUBLISH
BEGIN:VEVENT
UID:545a90797c47784bd95e5d3a486c6aca
CATEGORIES:Tischtennis
CREATED:20190816T222917
SUMMARY:Tischtennis: PSG Ludwigsburg - TVA 2
DESCRIPTION:
DTSTAMP:20260422T184338
DTSTART:20191012T170000
DTEND:20191012T200000
SEQUENCE:0
TRANSP:OPAQUE
END:VEVENT
END:VCALENDAR