BEGIN:VCALENDAR
VERSION:2.0
PRODID:-//jEvents 2.0 for Joomla//EN
CALSCALE:GREGORIAN
METHOD:PUBLISH
BEGIN:VEVENT
UID:ef2226937dc5542bba9e0754b0a12e8e
CATEGORIES:Tischtennis
CREATED:20190816T222840
SUMMARY:Tischtennis: KSV Hoheneck - TVA 2
DESCRIPTION:
DTSTAMP:20260423T130719
DTSTART:20191006T090000
DTEND:20191006T120000
SEQUENCE:0
TRANSP:OPAQUE
END:VEVENT
END:VCALENDAR